BEGIN:VCALENDAR
VERSION:2.0
PRODID:-// - ECPv6.15.20//NONSGML v1.0//EN
CALSCALE:GREGORIAN
METHOD:PUBLISH
X-ORIGINAL-URL:https://www.vatsla.ee
X-WR-CALDESC:Events for 
REFRESH-INTERVAL;VALUE=DURATION:PT1H
X-Robots-Tag:noindex
X-PUBLISHED-TTL:PT1H
BEGIN:VTIMEZONE
TZID:UTC
BEGIN:STANDARD
TZOFFSETFROM:+0000
TZOFFSETTO:+0000
TZNAME:UTC
DTSTART:20240101T000000
END:STANDARD
END:VTIMEZONE
BEGIN:VEVENT
DTSTART;TZID=UTC:20250825T183000
DTEND;TZID=UTC:20250825T200000
DTSTAMP:20260422T103220
CREATED:20250723T171837Z
LAST-MODIFIED:20250823T134200Z
UID:943-1756146600-1756152000@www.vatsla.ee
SUMMARY:Külaseltsi üldkoosolek
DESCRIPTION:Hea külaseltsi liige! \nOotame Sind 25. augustil kell 18:30 Hüüru mõisa ruumidesse Vatsla külaseltsi üldkoosolekule. \nPeagi on saabumas järgmise aasta tegevustoetuse taotluse esitamise tähtaeg. Seega on aeg panna paika\, mida me järgmisel aastal teha soovime ja kui palju raha meil selleks vaja on. Kõik ideed\, ka kõige pöörasemad\, on teretulnud! \nTuletame meelde\, et külaseltsi liikmele on igaaastasel üldkoosolekul osalemine kohustuslik. Kui üldkoosolekul osalemine ei ole võimalik\, tuleb volitada endale esindaja külaseltsi liikmete seast. Selleks saada digiallkirjastatud volitus juhatuse meilile või anna kirjalikus vormis volitatud isikule kaasa. Vajadusel aitame volitatava leidmisel! Volituse võib kirjutada vabas vormis või kasutada blanketti. \nVolituse blanketi saab enda arvutisse salvestada siit: https://docs.google.com/document/d/1pIZ1lNLyqaCHKY7D3vfArV_6zV0tmbPCsNSZaqI_Ons/edit?usp=sharing \nSeekord on tegemist avatud koosolekuga\, mis tähendab\, et ka asjast huvitatud\, kuid külaseltsi mittekuuluvad vatslakad on oodatud kuulama. Arutame teemasid\, mis puudutavad meid kõiki. Seega naabrid kampa ja saame kokku! \nKoosoleku päevakord: \n\n2026. aasta tegevuskava ja tegevustoetus\nühe juhatuse liikme tagasiastumise kinnitamine ja soovi korral uue juhatuse liikme valimine\nvaba arutelu\n\nKohtumiseni!\nVatsla külaseltsi juhatus\ninfo@vatsla.ee
URL:https://www.vatsla.ee/event/kulaseltsi-uldkoosolek/
ATTACH;FMTTYPE=image/jpeg:https://vatsla.ee/wp-content/uploads/2025/07/Vatsla_logo.jpg
END:VEVENT
END:VCALENDAR