BEGIN:VCALENDAR
VERSION:2.0
PRODID:-// - ECPv6.15.20//NONSGML v1.0//EN
CALSCALE:GREGORIAN
METHOD:PUBLISH
X-ORIGINAL-URL:https://vatsla.ee
X-WR-CALDESC:Events for 
REFRESH-INTERVAL;VALUE=DURATION:PT1H
X-Robots-Tag:noindex
X-PUBLISHED-TTL:PT1H
BEGIN:VTIMEZONE
TZID:Europe/Moscow
BEGIN:STANDARD
TZOFFSETFROM:+0300
TZOFFSETTO:+0300
TZNAME:MSK
DTSTART:20240101T000000
END:STANDARD
END:VTIMEZONE
BEGIN:VEVENT
DTSTART;TZID=Europe/Moscow:20250817T110000
DTEND;TZID=Europe/Moscow:20250817T150000
DTSTAMP:20260422T103327
CREATED:20250730T092331Z
LAST-MODIFIED:20250807T062404Z
UID:965-1755428400-1755442800@vatsla.ee
SUMMARY:Vatsla Volle 2025
DESCRIPTION:Traditsioonile Vatsla Volle seekord 17. augustil! \nOotame kõiki sportlikke vatslakaid end pallimängus proovile panema. Praegu veel jõuab võrkpalliga tutvust teha ja end kui mitte just maailmameistriks\, siis vähemalt külameistriks treenida! \nVõitja tiim saab nime rändkarikale! \nTugitoolisportlased ja pered on oodatud kaasa elama. Platsi kõrval on lõõgastumiseks saun ja kümblustünn\, kõhu saab täis mugida Kaina talu burgeritega 😉 \n  \nVõistlemiseks pole tiimi kokku vaja panna\, need loosime kohapeal! Tule üksi või koos sõpradega! Anna oma osalemisest või osalemise mõttest teada meiliga info@vatsla.ee. \n  \nÜritus Facebookis
URL:https://vatsla.ee/event/vatsla-volle-2025/
ATTACH;FMTTYPE=image/jpeg:https://www.vatsla.ee/wp-content/uploads/2025/07/gd35dbdb6170bac0fd1773be72a2d839ccbcdbe940237937f2a80373b1ac44ab47c5f820a92d2c912a703716d201569a743b2f717c4bb8b606d919d19ae51982e_1280-6480825.jpg
END:VEVENT
END:VCALENDAR